BEGIN:VCALENDAR
VERSION:2.0
PRODID:-//Filosofia UFMG - ECPv5.16.4//NONSGML v1.0//EN
CALSCALE:GREGORIAN
METHOD:PUBLISH
X-WR-CALNAME:Filosofia UFMG
X-ORIGINAL-URL:https://filosofia.fafich.ufmg.br
X-WR-CALDESC:Eventos para Filosofia UFMG
BEGIN:VTIMEZONE
TZID:America/Sao_Paulo
BEGIN:STANDARD
TZOFFSETFROM:-0300
TZOFFSETTO:-0300
TZNAME:-03
DTSTART:20220101T000000
END:STANDARD
END:VTIMEZONE
BEGIN:VEVENT
DTSTART;TZID=UTC:20260420T201616
DTEND;TZID=UTC:20241119T203000
DTSTAMP:20260420T201616
CREATED:20241118T194941Z
LAST-MODIFIED:20241118T194941Z
UID:21199-0-1732048200@filosofia.fafich.ufmg.br
SUMMARY:I Colóquio Caminhos da Filosofia: Hegel e a filosofia alemã no Brasil
DESCRIPTION:
URL:https://filosofia.fafich.ufmg.br/evento/i-coloquio-caminhos-da-filosofia-hegel-e-a-filosofia-alema-no-brasil/
END:VEVENT
BEGIN:VEVENT
DTSTART;TZID=America/Sao_Paulo:20220624T150000
DTEND;TZID=America/Sao_Paulo:20220708T180000
DTSTAMP:20260420T201616
CREATED:20220614T122403Z
LAST-MODIFIED:20220721T212031Z
UID:19513-1656082800-1657303200@filosofia.fafich.ufmg.br
SUMMARY:Curso de extensão (on-line) - A antiguidade sensorial
DESCRIPTION:Professor Roberto Wu \n(Filosofia/UFSC\, Presidente da Sociedade Brasileira de Retórica/SBR\, Pós-doutorando em Filosofia/UFMG) \n  \n \nLubo Kristek – Monumento para os 5 sentidos \n  \nApresentação \nNa antiguidade greco-romana\, as relações entre os sentidos nem sempre formam um todo coerente. Da diversidade de correntes filosóficas decorrem estratégias diversas sobre a justificação do primado de alguns sentidos sobre outros. Tal é o mote desse curso\, que pretende compor um caleidoscópio sensorial da antiguidade\, através de uma análise das definições\, funções e sistematizações hierárquicas dos sentidos. \n  \nDatas e horários: \nSegundas e sextas\, das 15 às 18h (Via Zoom) \n  \n24/6 – A gustação. A cultura dos banquetes. A doçura das musas. Imagens gustativas em Homero e Aristófanes. Atomismo e gustação. A doçura no medievo. \n27/6 – O olfato. A respiração e sua conexão com vida\, percepção e consciência. A peculiaridade do olfato entre o jogo dos contrários. Aspectos do olfato na filosofia helênica. O papel mediador do aroma entre humanos e divindades. \n01/7 – O tato. O reconhecimento de Ulisses na Odisseia. Variações sobre o episódio de Euricleia (Odisseia). O tato como condição de possibilidade dos outros sentidos em Aristóteles. Desejo\, prazer e dor articulados pelo tato. A aporia do tato: a modificação do esquema órgão-meio-objeto. A háptica e seu fundamento no corpo e na carne. \n04/7 – A audição. As sereias na Odisseia. Phonē\, logos e suas escutas. Termos acústicos gregos. A audiência retórica. \n08/7 – A visão. A indissociabilidade entre visão\, imaginação e emoção na retórica. Memória e visão. O suposto primado visual na filosofia antiga. \n  \nMinistrante \nRoberto Wu possui graduação e mestrado em Filosofia pela UFPR (2000 e 2002)\, doutorado em Filosofia pela Puc-Rio (2006)\, e estágio pós-doutoral no Boston College (2014) e na UFMG (2021-22\, em curso). Desde 2009 é professor do Departamento de Filosofia da UFSC\, tendo sido coordenador de seu Programa de Pós-Graduação entre 2016 e 2019. Atualmente exerce a função de Presidente da Sociedade Brasileira de Retórica (2021-2023). Seus interesses de pesquisa envolvem os seguintes tópicos: retórica\, hermenêutica\, fenomenologia\, percepção\, alteridade\, filosofia da arte e filosofia da tecnologia. \n  \nOrganização: \nMaria Cecilia de Miranda N. Coelho (Filosofia/UFMG) \nRoberto Wu (Filosofia/UFSC – Pós-doutorando em Filosofia /UFMG) \n  \nPromoção:  \nLinha de Filosofia Antiga e Medieval/Grupo de Filosofia Antiga \nGrupo Retorar: Retórica e Argumentação FALE-FAFICH/CNPq \n  \nInscrições (até dia 23/6\, às 18h):  https://forms.gle/DP6Jvb7PoWcufkmB9 \n  \n\nCertificado: de 15h/a \n  \nInformações: retorarufmg@gmail.com \n  \nPós-escrito em 21/7/2022: Todas as sessões estão disponibilizadas no Youtube:https://bit.ly/CanalAntiguidadeSensorial
URL:https://filosofia.fafich.ufmg.br/evento/a-antiguidade-sensorial/
CATEGORIES:Departamento
END:VEVENT
END:VCALENDAR