BEGIN:VCALENDAR
VERSION:2.0
PRODID:-//Filosofia UFMG - ECPv5.16.4//NONSGML v1.0//EN
CALSCALE:GREGORIAN
METHOD:PUBLISH
X-WR-CALNAME:Filosofia UFMG
X-ORIGINAL-URL:https://filosofia.fafich.ufmg.br
X-WR-CALDESC:Eventos para Filosofia UFMG
BEGIN:VTIMEZONE
TZID:America/Sao_Paulo
BEGIN:STANDARD
TZOFFSETFROM:-0300
TZOFFSETTO:-0300
TZNAME:-03
DTSTART:20220101T000000
END:STANDARD
END:VTIMEZONE
BEGIN:VEVENT
DTSTART;TZID=UTC:20260421T102250
DTEND;TZID=UTC:20241119T203000
DTSTAMP:20260421T102250
CREATED:20241118T194941Z
LAST-MODIFIED:20241118T194941Z
UID:21199-0-1732048200@filosofia.fafich.ufmg.br
SUMMARY:I Colóquio Caminhos da Filosofia: Hegel e a filosofia alemã no Brasil
DESCRIPTION:
URL:https://filosofia.fafich.ufmg.br/evento/i-coloquio-caminhos-da-filosofia-hegel-e-a-filosofia-alema-no-brasil/
END:VEVENT
BEGIN:VEVENT
DTSTART;TZID=America/Sao_Paulo:20220307T080000
DTEND;TZID=America/Sao_Paulo:20220311T170000
DTSTAMP:20260421T102250
CREATED:20220307T165040Z
LAST-MODIFIED:20220307T165040Z
UID:18697-1646640000-1647018000@filosofia.fafich.ufmg.br
SUMMARY:Curso de extensão gratuito - Emoções e Regulação Emocional: Questões Filosóficas e Psicológicas
DESCRIPTION:  \nCriado pelo residente pós-doutoral Felipe N. De Carvalho e coordenado pelo Prof. Ernesto Perini\, o curso visa introduzir as principais teorias filosóficas e psicológicas sobre emoções\, além de explorar as ferramentas práticas de regulação emocional associadas a cada uma dessas teorias. O curso tem duração de 10 semanas\, carga horária de 25 horas\, caráter autoinstrucional (sem tutoria) e será oferecido na modalidade Educação à Distância pela plataforma CAED Virtual. A próxima oferta acontecerá entre os dias 16 de maio e 22 de julho\, com inscrições entre os dias 07 e 11 de março. Para mais informações clique no link abaixo (https://cursoemocoesregulacaoemocionalufmg.wordpress.com).
URL:https://filosofia.fafich.ufmg.br/evento/curso-de-extensao-gratuito-emocoes-e-regulacao-emocional-questoes-filosoficas-e-psicologicas/
CATEGORIES:Departamento
END:VEVENT
BEGIN:VEVENT
DTSTART;TZID=America/Sao_Paulo:20220308T100000
DTEND;TZID=America/Sao_Paulo:20220308T113000
DTSTAMP:20260421T102250
CREATED:20220303T183346Z
LAST-MODIFIED:20220304T142855Z
UID:17679-1646733600-1646739000@filosofia.fafich.ufmg.br
SUMMARY:Mitologia Grega e Imagens Femininas: o que podem(os) dizer?
DESCRIPTION:  \nApresentação\nNo Dia Internacional da Mulher\, faremos uma atividade para conhecer algumas figuras femininas que\, mesmo não tendo existido como nós\, existem na nossa mente\, pois pensamos nelas e utilizamos suas imagens e nomes no dia a dia de nossas vidas\, embora sejam personagens míticas. Elas aparecem em pinturas\, esculturas\, no cinema\, na tevê\, nos jogos etc. Ainda ouvimos falar sobre elas em vários locais. Algumas\, quando vamos a um museu\, estão representadas por meio de esculturas ou pinturas\, ou têm seus nomes circulando entre jovens e adultos no mais prosaico cotidiano. \nA proposta deste breve encontro acadêmico-cultural é a de propiciar uma conversa com vários/as professores/as que estudam\, entre outras coisas\, as narrativas sobre essas mulheres míticas. A ideia desse encontro surgiu de alguns membros do Projeto Mitologia\, História e Cinema – uma proposta de extensão unindo ensino e pesquisa na capacitação de professores da educação básica\, sediado no Departamento de Filosofia da UFMG. \nA foto da escultura escolhida para este cartaz\, como um convite para a participação dos/as interessados/as nestes diálogos (de mão dupla) entre passado e presente\, é muito famosa. Ela faz parte do acervo do Museu Britânico\, localizado em Londres; mas qualquer utilização de imagens é muito complexa e\, em nosso encontro\, pretendemos\, também\, abordar esta questão\, pois elas não são apenas uma ilustração ou um adereço a um determinado texto.  Neste debate entre professores/as e alunos/as\, em que o presente toma sentido porque não ignora o passado que o constitui\, imagens\, palavras e conceitos serão objeto de nossa reflexão. \nO público-alvo são estudantes\, entre 11 e 14 anos\, do Colégio Santa Amélia\, onde atuam dois dos membros do projeto\, os professores Daniel Couto e Igor Cardoso\, mas todos/as estão convidados\, jovens\, adultos\, professores/as e estudantes. \n  \nExposições dos/as professores/as convidados/as\n10h às 10h50\nApresentação dos/as professores/as:  Daniel Couto (Doutorando em Filosofia/UFMG – Colégio Santa Amélia) \nPor que um compêndio de mulheres da Antiguidade?  Rafael Brunhara (Letras/UFRGS) \nMuseu\, o lugar das Musas  Maria Aparecida de Oliveira Silva (Labham/História/UFPI) \nAmazonas: do mito grego ao mito ameríndio   Marcony Lopes (Doutorando em Arqueologia/USP) \nSereia\, Sirena\, sirene e Iara  Camila Zanon (Pós-doutoranda em Letras/Coimbra) \n  \nApresentação dos/as expositores/as: Igor Cardoso (Doutor em História/UFMG – Colégio Santa Amélia) \nDivina Ártemis\, protetora implacável Romana Guimarães (Graduada em Filosofia/UFMG) \nTecendo histórias com Penélope Maria Cecília de M. N. Coelho (Filosofia/UFMG) \nA beleza e as belas Clara Crepaldi (Pós-doutoranda em Letras/USP) \nQuem são os filhos da Mãe Natureza? De Gaia a Deméter e Ceres Rafael Silva (Doutorando em Letras/UFMG) \n  \n10h50 às 11h25 \nConversa com palestrantes\, alunos/as e demais participantes \nModeradores: Daniel Couto e Igor Cardoso \n  \nOrganização\nDaniel Couto (Doutorando em Filosofia/UFMG – Prof. no Colégio Santa Amélia) \nIgor Cardoso (Pesquisador no Projeto República. Doutor em História e Pós-doutor em Filosofia/UFMG – Prof. no Colégio Santa Amélia) \nProjeto de extensão  Mitologia\, História e Cinema – uma proposta de extensão unindo ensino e pesquisa na capacitação de professores da educação básica\, UFMG/FILOSOFIA. \n  \nApoio\nGrupo de Estudos Gregos e Baianos\, UFMG/FILOSOFIA \nMaria Cecília de M. N. Coelho (Filosofia/UFMG\, coordenadora\, na UFMG\, do projeto de extensão Mitologia\, História e Cinema – uma proposta de extensão unindo ensino e pesquisa na capacitação de professores da educação básica). \n  \nInscrição (aberta ao público\, com reserva para alunos da escola)\nEvento gratuito e on-line com transmissão pela plataforma Zoom. \nInscrições até o dia 7 de março\, 18h\, via formulário Google  (vagas: 85 participantes): \nhttps://forms.gle/tWbrfoYuZvvvnKXS6 \nContato: gregosebaianosufmg@gmail.com
URL:https://filosofia.fafich.ufmg.br/evento/mitologia-grega-e-imagens-femininas-o-que-podemos-dizer/
CATEGORIES:Departamento
END:VEVENT
END:VCALENDAR