BEGIN:VCALENDAR
VERSION:2.0
PRODID:-//Filosofia UFMG - ECPv5.16.4//NONSGML v1.0//EN
CALSCALE:GREGORIAN
METHOD:PUBLISH
X-WR-CALNAME:Filosofia UFMG
X-ORIGINAL-URL:https://filosofia.fafich.ufmg.br
X-WR-CALDESC:Eventos para Filosofia UFMG
BEGIN:VTIMEZONE
TZID:America/Sao_Paulo
BEGIN:STANDARD
TZOFFSETFROM:-0300
TZOFFSETTO:-0300
TZNAME:-03
DTSTART:20210101T000000
END:STANDARD
END:VTIMEZONE
BEGIN:VEVENT
DTSTART;TZID=UTC:20260420T213028
DTEND;TZID=UTC:20241119T203000
DTSTAMP:20260420T213028
CREATED:20241118T194941Z
LAST-MODIFIED:20241118T194941Z
UID:21199-0-1732048200@filosofia.fafich.ufmg.br
SUMMARY:I Colóquio Caminhos da Filosofia: Hegel e a filosofia alemã no Brasil
DESCRIPTION:
URL:https://filosofia.fafich.ufmg.br/evento/i-coloquio-caminhos-da-filosofia-hegel-e-a-filosofia-alema-no-brasil/
END:VEVENT
BEGIN:VEVENT
DTSTART;TZID=America/Sao_Paulo:20210721T140000
DTEND;TZID=America/Sao_Paulo:20210729T161500
DTSTAMP:20260420T213028
CREATED:20210708T151718Z
LAST-MODIFIED:20210708T155917Z
UID:4190-1626876000-1627575300@filosofia.fafich.ufmg.br
SUMMARY:Pensando a Pandemia: Perspectivas Filosóficas sobre a COVID-19
DESCRIPTION:Prezadas e prezados colegas\,\n\n\nGostaríamos de convidá-los para a segunda edição da conferência internacional “Pensando a Pandemia: Perspectivas Filosóficas sobre a COVID-19”. Segue abaixo a programação completa: \n\n  \n\n\nDia 1: Perspectivas Históricas (21/07)\n\n14:00 – 15:00 : Jeremy Greene (Johns Jopkins) – Ends of Epidemics \n15:00 – 15:15 : pausa \n15:15 – 16:15 : Luiz Alvez (Fiocruz) – A Pandemia de COVID-19 e a Historicidade dos Problemas Sanitários Brasileiros \n  \n\nDia 2: Filosofia da Ciência (22/07)\n\n14:00 – 15:00 : Jonathan Birch (LSE) – Pandemics and the Precautionary Principle \n15:00 – 15:15 : pausa \n15:15 – 16:15 : Nelson Vaz (UFMG) – Imunontologia \n  \n\nDia 3: Fenomenologia (28/07)\n\n14:00 – 15:00 : Havi Carel (University of Bristol) – Pandemic Phenomenology \n15:00 – 15:15 : pausa \n15:15 – 16:15 : Anna Karynne e Karla Correia (UNIFOR) – Projeto Escuta Solidária: Atendimentos Psicológicos Online no Contexto Universitário à Luz da Fenomenologia de Merleau-Ponty \n  \n\nDia 4: Ética e Política (29/07)\n\n14:00 – 15:00 : Quassim Cassam (University of Warwick) – The Politics and Epistemology of Vaccine Hesitancy \n15:00 – 15:15 : pausa \n15:15 – 16:15 : Telma Birchal (UFMG) – Pandemia: a Ponta de um Iceberg? \n  \nA conferência será transmitida ao vivo no YouTube\, e poderá ser assistida no canal “Felipe Carvalho Eventos Virtuais Filosofia UFMG” (https://www.youtube.com/channel/UCJVpENhyarOdWQDsnNiip8Q). \nPara mais informações favor escrever para ufmgfilosvirtual@gmail.com \nAtenciosamente\, \n\n\nFelipe Nogueira de Carvalho\n\nPesquisador de pós-doutorado em Filosofia\nPrograma CAPES-PrInt\nUniversidade Federal de Minas Gerais\nFaculdade de Filosofia e Ciências Humanas\nAv. Pres. Antônio Carlos\, 6627\nBelo Horizonte – MG\, 31270-901\nLattes: http://lattes.cnpq.br/9934624315948836 \n\nPhilpeople: https://philpeople.org/profiles/felipe-nogueira-de-carvalho 
URL:https://filosofia.fafich.ufmg.br/evento/pensando-a-pandemia-perspectivas-filosoficas-sobre-a-covid-19/
CATEGORIES:Departamento
END:VEVENT
END:VCALENDAR