BEGIN:VCALENDAR
VERSION:2.0
PRODID:-//Filosofia UFMG - ECPv5.16.4//NONSGML v1.0//EN
CALSCALE:GREGORIAN
METHOD:PUBLISH
X-WR-CALNAME:Filosofia UFMG
X-ORIGINAL-URL:https://filosofia.fafich.ufmg.br
X-WR-CALDESC:Eventos para Filosofia UFMG
BEGIN:VTIMEZONE
TZID:America/Sao_Paulo
BEGIN:STANDARD
TZOFFSETFROM:-0300
TZOFFSETTO:-0300
TZNAME:-03
DTSTART:20210101T000000
END:STANDARD
END:VTIMEZONE
BEGIN:VEVENT
DTSTART;TZID=UTC:20260421T205947
DTEND;TZID=UTC:20241119T203000
DTSTAMP:20260421T205947
CREATED:20241118T194941Z
LAST-MODIFIED:20241118T194941Z
UID:21199-0-1732048200@filosofia.fafich.ufmg.br
SUMMARY:I Colóquio Caminhos da Filosofia: Hegel e a filosofia alemã no Brasil
DESCRIPTION:
URL:https://filosofia.fafich.ufmg.br/evento/i-coloquio-caminhos-da-filosofia-hegel-e-a-filosofia-alema-no-brasil/
END:VEVENT
BEGIN:VEVENT
DTSTART;TZID=America/Sao_Paulo:20210616T160000
DTEND;TZID=America/Sao_Paulo:20210616T160000
DTSTAMP:20260421T205947
CREATED:20210616T153628Z
LAST-MODIFIED:20210616T203415Z
UID:4088-1623859200-1623859200@filosofia.fafich.ufmg.br
SUMMARY:I Colóquio Internacional da SBR em conjunto com PPGFIL/UFMG
DESCRIPTION:O I Colóquio Internacional da SBR será realizado em parceria como  a disciplina da área da Linha de Filosofia Antiga e Medieval\, Filosofia e Retórica em Diálogo\, ministrada pela Professora  Maria Cecília de Miranda Nogueira Coelho (do Grupo Filosofia Antiga/GFA-UFMG)\, que será\, também\, moderadora da mesa\, constituída pelos palestrantes Edward Schiappa (MIT) e  Myrto Aloumpi (University of Liverpool) e respondentes Narbal de Marsillac (FILOSOFIA/UFPB) e Priscilla Gontijo Leite (HISTÓRIA/UFPB). \nAcesso youtube.com/SociedadeBrasileiradeRetórica \n 
URL:https://filosofia.fafich.ufmg.br/evento/i-coloquio-internacional-da-sbr-em-conjunto-com-ppgfil-ufmg/
END:VEVENT
END:VCALENDAR