BEGIN:VCALENDAR
VERSION:2.0
PRODID:-//Filosofia UFMG - ECPv5.16.4//NONSGML v1.0//EN
CALSCALE:GREGORIAN
METHOD:PUBLISH
X-WR-CALNAME:Filosofia UFMG
X-ORIGINAL-URL:https://filosofia.fafich.ufmg.br
X-WR-CALDESC:Eventos para Filosofia UFMG
BEGIN:VTIMEZONE
TZID:America/Sao_Paulo
BEGIN:STANDARD
TZOFFSETFROM:-0300
TZOFFSETTO:-0300
TZNAME:-03
DTSTART:20210101T000000
END:STANDARD
END:VTIMEZONE
BEGIN:VEVENT
DTSTART;TZID=UTC:20260421T103740
DTEND;TZID=UTC:20241119T203000
DTSTAMP:20260421T103740
CREATED:20241118T194941Z
LAST-MODIFIED:20241118T194941Z
UID:21199-0-1732048200@filosofia.fafich.ufmg.br
SUMMARY:I Colóquio Caminhos da Filosofia: Hegel e a filosofia alemã no Brasil
DESCRIPTION:
URL:https://filosofia.fafich.ufmg.br/evento/i-coloquio-caminhos-da-filosofia-hegel-e-a-filosofia-alema-no-brasil/
END:VEVENT
BEGIN:VEVENT
DTSTART;TZID=America/Sao_Paulo:20210608T173000
DTEND;TZID=America/Sao_Paulo:20210608T184500
DTSTAMP:20260421T103740
CREATED:20210607T135129Z
LAST-MODIFIED:20210607T143600Z
UID:4066-1623173400-1623177900@filosofia.fafich.ufmg.br
SUMMARY:Mesa-redonda semestral 1/2021 Percursos Filosóficos
DESCRIPTION:O Departamento de Filosofia da UFMG convida\n\n\n\n\n\n\n\n\n\n\n\n\n\n\n\n\n\n\n\n\n\n\n\n\n\n\n\n\n\n\n\n\n\n\n\n\n\n\n\n\n\n\n\n\n\n\n\n\n\n\n\n\nDia 8 de junho (terça-feira)\, das 17h30 às 18h45 \n\n\nMesa-redonda semestral Percursos Filosóficos\nPalestrantes\nTelma de Souza Birchal\, Professora recém-aposentada do Departamento\nGiuseppe Ferraro\, Professor visitante recém-chegado ao Departamento\n \nModeradores-organizadores\nMaria Cecília de Miranda N. Coelho\, Chefe do Departamento\nRogério Antônio Lopes\, Coordenador do Colegiado de Graduação\n\nWalter Romero Menon Junior\, Coordenador do Programa  de Pós-Graduação \n\n\n\n\n\n\n\n\n\n\n\n\n\n\n\n\n\n\n\n\n\n\n\n\n\n\n\n\n\n\n\n\n\n\n\n\n\n\n\n\n\n\n\n\n\n\n\n\n\n\n\n\n\n\nA sessão contará\, ainda\, com a honrosa presença do\n\n\n\n\n\n\n\n\n\n\n\n\n\n\n\n\n\n\n\n\n\n\n\n\n\n\n\n\n\n\n\n\n\n\n\n\n\n\n\n\n\n\n\n\n\n\n\n\n\n\n\n\n\nDiretor da Faculdade de Filosofia e Ciências Humanas da UFMG\, Professor Bruno Pinheiro Wanderley Reis\n\n\n\n\n\n\n\n\n\n\n\n\n\n\n\n\n\n\n\n\n\n\n\n\n\n\n  \nApós o início do primeiro semestre letivo de 2021 na UFMG\, em 17 de maio último\, o Curso de Filosofia tem a alegria\, mesmo em uma época de tantas dores\, desafios e dificuldades   — mas\, talvez\, por isso mesmo  —\, de convidar todos/as os/as interessados/as em temas filosóficos\, para essa mesa-redonda. Em maio\, tivemos a chegada do professor Giuseppe\, mas\, por outro lado\, a aposentadoria da professora Telma\, bem como a de nossa secretária Edilma Fernandes.  Cremos ser oportuno\, além de marcar o início do semestre com um debate sobre questões teóricas\, com quem partilhou ou partilhará seu conhecimento na convivência do dia a dia na universidade\, também tornar públicos nossos agradecimentos e homenagens. Assim\, estão todos/as convidados/as para um encontro acadêmico-afetivo e para um passeio pelas filosofias moderna e oriental (indiana)\, especialidades de nossos palestrantes\, e pela memória de seus percursos na pesquisa e no ensino da Filosofia. \n  \n \n  \nTransmissão pelo Canal Memória Filosofia UFMG \nAcesse & Assista:   https://www.youtube.com/MemoriaFilosofiaUFMG \nApoio técnico \nProf. Rodrigo Duarte e monitores Romana Guimarães\, Najla Gaia e Daniel Couto (acadêmicos da Filosofia)
URL:https://filosofia.fafich.ufmg.br/evento/mesa-redonda-semestral-1-2021-percursos-filosoficos/
END:VEVENT
END:VCALENDAR