BEGIN:VCALENDAR
VERSION:2.0
PRODID:-//Filosofia UFMG - ECPv5.16.4//NONSGML v1.0//EN
CALSCALE:GREGORIAN
METHOD:PUBLISH
X-WR-CALNAME:Filosofia UFMG
X-ORIGINAL-URL:https://filosofia.fafich.ufmg.br
X-WR-CALDESC:Eventos para Filosofia UFMG
BEGIN:VTIMEZONE
TZID:America/Sao_Paulo
BEGIN:STANDARD
TZOFFSETFROM:-0300
TZOFFSETTO:-0300
TZNAME:-03
DTSTART:20210101T000000
END:STANDARD
END:VTIMEZONE
BEGIN:VEVENT
DTSTART;TZID=UTC:20260422T001426
DTEND;TZID=UTC:20241119T203000
DTSTAMP:20260422T001426
CREATED:20241118T194941Z
LAST-MODIFIED:20241118T194941Z
UID:21199-0-1732048200@filosofia.fafich.ufmg.br
SUMMARY:I Colóquio Caminhos da Filosofia: Hegel e a filosofia alemã no Brasil
DESCRIPTION:
URL:https://filosofia.fafich.ufmg.br/evento/i-coloquio-caminhos-da-filosofia-hegel-e-a-filosofia-alema-no-brasil/
END:VEVENT
BEGIN:VEVENT
DTSTART;TZID=America/Sao_Paulo:20210308T173000
DTEND;TZID=America/Sao_Paulo:20210308T210000
DTSTAMP:20260422T001426
CREATED:20210304T094713Z
LAST-MODIFIED:20210308T100034Z
UID:3848-1615224600-1615237200@filosofia.fafich.ufmg.br
SUMMARY:8 Mulheres em uma jornada sobre Mulheres
DESCRIPTION:8 Mulheres em uma jornada sobre Mulheres \n \n8 de março. Um dia muito especial! \nAliás\, “Um dia muito especial” traz à memória o título no Brasil daquele famoso filme Una giornata particolare\, de Ettore Scola\, em que temas políticos e privados\, como liberdade\, respeito e a construção de afetos se enovelam de modo tão comovente\, em momento histórico tão desolador e desafiador. \nCertamente\, não basta um dia\, se quisermos abordar este conceito universal referente ao termo “Mulheres”. Mas é o que\, simbolicamente\, temos.  Na verdade\, nem ocuparemos todo seu/nosso dia. Serão poucas horas\, duas sessões\, das 17h30 às 19h e das 19h15 às 20h45\, nas quais\, dois grupos de quatro convidadas farão exposições breves – mas densas e envolventes\, e por isso foram chamadas! –\, seguidas de um debate com todas aquelas e todos aqueles que nos derem a alegria de se juntar a nós. \n8 convidadas e 4 organizadoras. Somos 12! Mas seremos muito mais\, pois esse grupo\, que em comum partilha a dedicação à vida acadêmica\, falará da trajetória de outras mulheres\, nomes e exemplos queridos e marcantes para a ciência\, o direito\, a política\, a educação\, as artes e a sociedade\, cujas ideias e ações\, como pedra em poço d´água\, se espalham em um crescendo harmonioso\, que envolve histórias de vida de muitas outras mulheres. \nA proposta do encontro\, comemorativo (nos três sentidos lexicais do termo)\, partiu – quem diria! – de uma Helena\, aquela bela\, mas não exatamente recatada\, conforme conta o mito. Algumas de suas imagens são\, neste semestre\, objeto de curso sobre recepção dos clássicos no Grupo Gregos e Baianos\, oferecido por Maria Cecília\, na UFMG. E aconteceu de Helena\, nessas conversas de amigas sobre suas pesquisas – as organizadoras professoras\, no caso –\, encontrar a erudita Sor Juana Inés de la Cruz e a revolucionária Olympe de Gouges\, temas de pesquisa da Adriana\, também na UFMG. Imaginem que trindade! Desse encontro inicial\, vieram os “barquinhos de papel”\, como diria Guimarães Rosa\, concretizados pelos convites a outras amigas\, profissionais e pesquisadoras engajadas\, e a ideia da partilha pública. \nAssim\, vamos à mesa virtual (a um Jantar\, se quisermos ainda manter unidos o fim e o início\, com a memória de Ettore Scola\, mas dirigido e servido – por que não?! – por elas). \n  \nProgramação \nPrimeira sessão – das 17h30 às 19h \n\nAna Vicentini (Psicanalista e Professora aposentada do Instituto de Artes UnB) Helenas em cena numa transversal do tempo.\nBianca Dias (Psicanalista e Crítica de Arte)  Gradiva; aquela que avança\nCarla Damião (Professora de Filosofia/UFG\, Cofundadora do GT de Filosofia e Gênero da ANPOF ) Você que me olha\, me conta: a narrativa feminista relacional\nValéria Lamego (Editora e Pós-doutora em Letras/UFRJ) Provocações sobre Cecília Meireles e a crítica literária canônica\nModeração: Adriana Do Carmo Figueiredo (Linguística/Fundação CEFET-MG)\n\n Segunda sessão – das 19h15 às 20h45 \n\nErica Angliker (Arqueóloga/ICS-SAS-University of London) “Coisas de mulher” na arqueologia cicládica\nFrancisca Luciana de Sousa (Doutora em Letras/UFMG) Jocy de Oliveira\, Magna donna \nIara Fricke Matte (Maestrina e Professora de música/UFMG) Barbara Hannigan e outras bárbaras\nNastassja Pugliese (Professora de Filosofia/UFRJ) Nísia Floresta\, brasileira augusta\nModeração: Maria Cecília de Miranda Nogueira Coelho (Professora de Filosofia/UFMG)\n\nMonitoras em ambas as sessões: Najla Cristina de Jesus Gaia (Graduanda em Filosofia/UFMG) e Romana Almeida Guimarães (Licenciada e Bacharelanda em Filosofia/UFMG) \nPromoção \nFundação CEFET-MG \nGrupo de pesquisa Gregos e Baianos/Filosofia/UFMG \nOAB-MG – Comissão da Mulher Advogada \nOrganização \nAdriana Do Carmo Figueiredo (Linguística/Fundação CEFET-MG) \nMaria Cecília de Miranda Nogueira Coelho (Filosofia/UFMG) \nNajla Cristina de Jesus Gaia (Filosofia/UFMG) \nRomana Almeida Guimarães (Filosofia/UFMG) \nFaça sua inscrição (gratuita) através do formulário online: https://docs.google.com/forms/d/e/1FAIpQLScqIzC-gPWaWMo7YzqQ9bEm3oFcdmPogBjuEYm7IKeOGI-BoQ/viewform?gxids=7628 \nInscrições abertas até dia 8\, às 14h. Certificado de participação de 1h30 ou 3 horas. \nFacebook: https://www.facebook.com/events/131520988884366
URL:https://filosofia.fafich.ufmg.br/evento/8-mulheres-em-uma-jornada-sobre-mulheres/
END:VEVENT
END:VCALENDAR